BEGIN:VCALENDAR
VERSION:2.0
PRODID:-//California Smog &amp; Automotive Institute - ECPv6.15.20//NONSGML v1.0//EN
CALSCALE:GREGORIAN
METHOD:PUBLISH
X-WR-CALNAME:California Smog &amp; Automotive Institute
X-ORIGINAL-URL:https://californiasmoginstitute.com
X-WR-CALDESC:Events for California Smog &amp; Automotive Institute
REFRESH-INTERVAL;VALUE=DURATION:PT1H
X-Robots-Tag:noindex
X-PUBLISHED-TTL:PT1H
BEGIN:VTIMEZONE
TZID:UTC
BEGIN:STANDARD
TZOFFSETFROM:+0000
TZOFFSETTO:+0000
TZNAME:UTC
DTSTART:20250101T000000
END:STANDARD
END:VTIMEZONE
BEGIN:VEVENT
DTSTART;TZID=UTC:20260420T180000
DTEND;TZID=UTC:20260617T220000
DTSTAMP:20260421T221559
CREATED:20251014T231319Z
LAST-MODIFIED:20251204T204509Z
UID:3830-1776708000-1781733600@californiasmoginstitute.com
SUMMARY:Smog Check Inspector Training and Certification
DESCRIPTION: CLASS SCHEDULE \nApril 20\, 2026 to June 17\, 2026 \n6:00 pm to 10:00 pm \nMonday\, Tuesday & Wednesday \nThis course is a minimum of 96 hours in length and is designed for Inspector applicants with no automotive experience and covers the following topics: \nSafety; Engine theory\, design\, and operation for gasoline and diesel engines; Colling systems; Exhaust systems; Electrical systems; Ignition systems; Induction systems; Fuel injection systems; Carburetion; Engine management systems and On-Board diagnostics; Emission control theory\, design\, and operation; and Emissions cause and effect. \nYou will receive a confirmation email within 48 hours of completing your registration and tuition payment\, confirming your enrollment in the class. On or before the first day\, you’ll receive an email with the Zoom link to join at 6 PM. Classes will be held online on Mondays and Tuesdays\, with in-person sessions on Wednesdays for hands-on activities and exams throughout the course.
URL:https://californiasmoginstitute.com/courses-calendar/smog-check-inspector-training-and-certification-7/
LOCATION:California Smog & Automotive Institute\, 3001 Chicago Ave\, Riverside\, CA\, 92507\, United States
CATEGORIES:Automotive Education,Automotive Repair Training,Brake and Lamp,Brake and Lamp Training,Brake and Light,Education,Electrical,Electronics,Repair License,Repair Renewal,Smog Check Inspector,Smog Repair Training,Smog Training,Training
ATTACH;FMTTYPE=image/jpeg:https://californiasmoginstitute.com/wp-content/uploads/CSAI-Shop-Logo-1000Pixels.jpg
END:VEVENT
END:VCALENDAR