BEGIN:VCALENDAR
VERSION:2.0
PRODID:-//California Smog &amp; Automotive Institute - ECPv6.15.20//NONSGML v1.0//EN
CALSCALE:GREGORIAN
METHOD:PUBLISH
X-WR-CALNAME:California Smog &amp; Automotive Institute
X-ORIGINAL-URL:https://californiasmoginstitute.com
X-WR-CALDESC:Events for California Smog &amp; Automotive Institute
REFRESH-INTERVAL;VALUE=DURATION:PT1H
X-Robots-Tag:noindex
X-PUBLISHED-TTL:PT1H
BEGIN:VTIMEZONE
TZID:UTC
BEGIN:STANDARD
TZOFFSETFROM:+0000
TZOFFSETTO:+0000
TZNAME:UTC
DTSTART:20240101T000000
END:STANDARD
END:VTIMEZONE
BEGIN:VEVENT
DTSTART;TZID=UTC:20260216T180000
DTEND;TZID=UTC:20260304T220000
DTSTAMP:20260421T153301
CREATED:20251014T232228Z
LAST-MODIFIED:20251014T232228Z
UID:3837-1771264800-1772661600@californiasmoginstitute.com
SUMMARY:Smog Inspector Level 2
DESCRIPTION:February 16\, 2026 – March 4\, 2026\n6:00 pm to 10:00 pm \nMonday\, Tuesday & Wednesday \nThe Smog Check Inspector Level 2 Training is intended to provide students the knowledge\, skills\, and abilities needed to perform Smog Check inspections. \nStudents who successfully complete this training will have met the Bureau’s training requirements to qualify to take the Smog Check Inspector state licensing examination. \nTRAINING PREREQUISITE: \nPrior to taking the Smog Check Inspector Level 2 Training\, students must either satisfy BAR specified criteria\, as listed below\, or successfully complete the Level 1 Engine and Emission Controls Fundamentals Training. \nBAR specified requirements: Possess ASE A6\, A8 and L1 certification; or possess an AA/AS degree or Certificate in automotive technology and have 1 year experience; or have 2 years’ experience and have completed BAR specified training. \nYou will receive a confirmation email within 48 hours of completing your registration and tuition payment\, confirming your enrollment in the class. On or before the first day\, you’ll receive another email with the Zoom link to join at 6 PM\, as the first two days of class will be held online. The final day will be in person for hands-on activities and the final exam.
URL:https://californiasmoginstitute.com/courses-calendar/smog-inspector-level-2-5/
LOCATION:California Smog & Automotive Institute\, 3001 Chicago Ave\, Riverside\, CA\, 92507\, United States
CATEGORIES:Automotive Education,Automotive Repair Training,Brake and Lamp,Brake and Lamp Training,Brake and Light,Electrical,Electronics,Repair License,Repair Renewal,Smog Check Inspector,Smog Repair Training,Smog Training,Training
END:VEVENT
BEGIN:VEVENT
DTSTART;TZID=UTC:20260202T180000
DTEND;TZID=UTC:20260401T220000
DTSTAMP:20260421T153301
CREATED:20250121T114501Z
LAST-MODIFIED:20251204T202944Z
UID:3342-1770055200-1775080800@californiasmoginstitute.com
SUMMARY:Smog Check Inspector Training and Certification
DESCRIPTION:     CLASS SCHEDULE \nFebruary 2\, 2026 to April 1\, 2026 \n6:00 pm to 10:00 pm \nMonday\, Tuesday & Wednesday \nThis course is a minimum of 68 hours in length and is designed for Inspector applicants with no automotive experience and covers the following topics: \nSafety; Engine theory\, design\, and operation for gasoline and diesel engines; Colling systems; Exhaust systems; Electrical systems; Ignition systems; Induction systems; Fuel injection systems; Carburetion; Engine management systems and On-Board diagnostics; Emission control theory\, design\, and operation; and Emissions cause and effect. \nYou will receive a confirmation email within 48 hours of completing your registration and tuition payment\, confirming your enrollment in the class. On or before the first day\, you’ll receive an email with the Zoom link to join at 6 PM. Classes will be held online on Mondays and Tuesdays\, with in-person sessions on Wednesdays for hands-on activities and exams throughout the course.
URL:https://californiasmoginstitute.com/courses-calendar/smog-check-inspector-training-and-certification-2/
LOCATION:California Smog & Automotive Institute\, 3001 Chicago Ave\, Riverside\, CA\, 92507\, United States
CATEGORIES:Automotive Education,Automotive Repair Training,Brake and Lamp,Brake and Lamp Training,Brake and Light,Education,Electronics,Repair License,Repair Renewal,Smog Check Inspector,Smog Repair Training,Smog Training,Training
END:VEVENT
BEGIN:VEVENT
DTSTART;TZID=UTC:20260119T180000
DTEND;TZID=UTC:20260318T220000
DTSTAMP:20260421T153301
CREATED:20251014T232004Z
LAST-MODIFIED:20251014T232300Z
UID:3835-1768845600-1773871200@californiasmoginstitute.com
SUMMARY:Smog Check Inspector Training and Certification
DESCRIPTION: CLASS SCHEDULE \nJanuary 19\, 2026 to March 18\, 2026 \n6:00 pm to 10:00 pm \nMonday\, Tuesday & Wednesday \nThis course is a minimum of 96 hours in length and is designed for Inspector applicants with no automotive experience and covers the following topics: \nSafety; Engine theory\, design\, and operation for gasoline and diesel engines; Colling systems; Exhaust systems; Electrical systems; Ignition systems; Induction systems; Fuel injection systems; Carburetion; Engine management systems and On-Board diagnostics; Emission control theory\, design\, and operation; and Emissions cause and effect. \nYou will receive a confirmation email within 48 hours of completing your registration and tuition payment\, confirming your enrollment in the class. On or before the first day\, you’ll receive an email with the Zoom link to join at 6 PM. Classes will be held online on Mondays and Tuesdays\, with in-person sessions on Wednesdays for hands-on activities and exams throughout the course.
URL:https://californiasmoginstitute.com/courses-calendar/smog-check-inspector-training-and-certification-copy-copy/
LOCATION:California Smog & Automotive Institute\, 3001 Chicago Ave\, Riverside\, CA\, 92507\, United States
CATEGORIES:Automotive Education,Automotive Repair Training,Brake and Lamp,Brake and Lamp Training,Brake and Light,Education,Electrical,Electronics,Repair License,Repair Renewal,Smog Check Inspector,Smog Repair Training,Smog Training,Training
ATTACH;FMTTYPE=image/jpeg:https://californiasmoginstitute.com/wp-content/uploads/CSAI-Shop-Logo-1000Pixels.jpg
END:VEVENT
BEGIN:VEVENT
DTSTART;TZID=UTC:20260105T180000
DTEND;TZID=UTC:20260304T220000
DTSTAMP:20260421T153301
CREATED:20250121T115421Z
LAST-MODIFIED:20251204T202802Z
UID:3481-1767636000-1772661600@californiasmoginstitute.com
SUMMARY:Smog Check Inspector Training and Certification
DESCRIPTION:     CLASS SCHEDULE \nJanuary 5\, 2026 to March 4\, 2026 \n6:00 pm to 10:00 pm \nMonday\, Tuesday & Wednesday \nThis course is a minimum of 68 hours in length and is designed for Inspector applicants with no automotive experience and covers the following topics: \nSafety; Engine theory\, design\, and operation for gasoline and diesel engines; Colling systems; Exhaust systems; Electrical systems; Ignition systems; Induction systems; Fuel injection systems; Carburetion; Engine management systems and On-Board diagnostics; Emission control theory\, design\, and operation; and Emissions cause and effect. \n 
URL:https://californiasmoginstitute.com/courses-calendar/smog-check-inspector-training-and-certification-4/
LOCATION:California Smog & Automotive Institute\, 3001 Chicago Ave\, Riverside\, CA\, 92507\, United States
CATEGORIES:Automotive Education,Automotive Repair Training,Brake and Lamp,Brake and Lamp Training,Brake and Light,Education,Electronics,Repair License,Repair Renewal,Smog Check Inspector,Smog Repair Training,Smog Training,Training
ORGANIZER;CN="Patricia Summers":MAILTO:PSummers@casmoginst.org
END:VEVENT
BEGIN:VEVENT
DTSTART;TZID=UTC:20251201T180000
DTEND;TZID=UTC:20260211T220000
DTSTAMP:20260421T153301
CREATED:20251014T231725Z
LAST-MODIFIED:20251014T232344Z
UID:3833-1764612000-1770847200@californiasmoginstitute.com
SUMMARY:Smog Check Inspector Training and Certification
DESCRIPTION: CLASS SCHEDULE \nDecember 1\, 2025 to February 11\, 2026 \n6:00 pm to 10:00 pm \nMonday\, Tuesday & Wednesday \nThis course is a minimum of 96 hours in length and is designed for Inspector applicants with no automotive experience and covers the following topics: \nSafety; Engine theory\, design\, and operation for gasoline and diesel engines; Colling systems; Exhaust systems; Electrical systems; Ignition systems; Induction systems; Fuel injection systems; Carburetion; Engine management systems and On-Board diagnostics; Emission control theory\, design\, and operation; and Emissions cause and effect. \nYou will receive a confirmation email within 48 hours of completing your registration and tuition payment\, confirming your enrollment in the class. On or before the first day\, you’ll receive an email with the Zoom link to join at 6 PM. Classes will be held online on Mondays and Tuesdays\, with in-person sessions on Wednesdays for hands-on activities and exams throughout the course.
URL:https://californiasmoginstitute.com/courses-calendar/smog-check-inspector-training-and-certification-copy/
LOCATION:California Smog & Automotive Institute\, 3001 Chicago Ave\, Riverside\, CA\, 92507\, United States
CATEGORIES:Automotive Education,Automotive Repair Training,Brake and Lamp,Brake and Lamp Training,Brake and Light,Education,Electrical,Electronics,Repair License,Repair Renewal,Smog Check Inspector,Smog Repair Training,Smog Training,Training
ATTACH;FMTTYPE=image/jpeg:https://californiasmoginstitute.com/wp-content/uploads/CSAI-Shop-Logo-1000Pixels.jpg
END:VEVENT
END:VCALENDAR